BEGIN:VCALENDAR
VERSION:2.0
PRODID:-//eventon.com NONSGML v1.0//EN
CALSCALE:GREGORIAN
METHOD:PUBLISH
BEGIN:VEVENT
UID:69e6010b7130e
DTSTAMP:20260420T103347Z
DTSTART:20250830T090000Z
DTEND:20251110T160000Z
LOCATION:Hoeve Rijlaarsdam Nieuwveenseweg 59
SUMMARY:Angenelle Thijssen\,  40 jaar kunstenaar
DESCRIPTION:Uitnodiging Expositie â€˜Zoekend\,  dicht bij mezelfâ€™ â€“ Ang
 enelle Thijssen Galerie &amp; Beeldentuin Rijlaarsdam nodigt u van harte ui
 t voor de overzichtstentoonstelling â€˜Zoekend\,  dicht bij mezelfâ€™ van b
 eeldend kunstenaar Angenelle Thijssen. Deze expositie markeert veertig jaar
  kunstenaarschap en biedt een unieke kijk op Thijssens veelzijdige oeuvre â
 €“ van grafiek en schilderijen[..]\nhttps://rijlaarsdam.nl/blog/events/expo
 sitie-hans-van-ommeren/
URL:https://rijlaarsdam.nl/blog/events/expositie-hans-van-ommeren/
END:VEVENT
END:VCALENDAR