BEGIN:VCALENDAR
VERSION:2.0
PRODID:-//eventon.com NONSGML v1.0//EN
CALSCALE:GREGORIAN
METHOD:PUBLISH
BEGIN:VEVENT
UID:69e600dbef5c5
DTSTAMP:20260420T103259Z
DTSTART:20241213T100000Z
DTEND:20250117T160000Z
LOCATION:
SUMMARY:Alleen open op afspraak
DESCRIPTION:Vanaf 13 december is onze galerie geopend op afspraak. Tijdens 
 deze winterperiode is er altijd een grote snoeibeurt aan onze tuin nodig. W
 e steken onze handen uit de mouwen en gaan druk aan de gang!&nbsp; Uiteraar
 d bent u nog steeds van harte welkom op Hoeve Rijlaarsdam. Tenslotte zijn w
 e gewoon[..]\nhttps://rijlaarsdam.nl/blog/events/beperking-galerie-bezoek/
URL:https://rijlaarsdam.nl/blog/events/beperking-galerie-bezoek/
END:VEVENT
END:VCALENDAR