BEGIN:VCALENDAR
VERSION:2.0
PRODID:-//eventon.com NONSGML v1.0//EN
CALSCALE:GREGORIAN
METHOD:PUBLISH
BEGIN:VEVENT
UID:69e5ec9d5e816
DTSTAMP:20260420T090637Z
DTSTART:20260308T100000Z
DTEND:20260412T150000Z
LOCATION:Hoeve Rijlaarsdam Nieuwveenseweg 59
SUMMARY:Expositie Gerard Huijsman & Kunstvrienden
DESCRIPTION:In de stal van Hoeve Rijlaarsdam exposeert Gerard Huijsman met 
 zijn kunstvrienden: Chris Nobels\,  Ton van Steenbergen\,  Hanneke Naterop\
 ,  Margot Luken &amp; Carina Mathot.&nbsp; De expositie zal starten op 8 Ma
 art en zal te zien zijn tot en met 12 april 2026. &nbsp;\nhttps://rijlaarsd
 am.nl/blog/events/gerard-huijsman-kunstvrienden/
URL:https://rijlaarsdam.nl/blog/events/gerard-huijsman-kunstvrienden/
END:VEVENT
END:VCALENDAR