BEGIN:VCALENDAR
VERSION:2.0
PRODID:-//eventon.com NONSGML v1.0//EN
CALSCALE:GREGORIAN
METHOD:PUBLISH
BEGIN:VEVENT
UID:69e6011603d6f
DTSTAMP:20260420T103358Z
DTSTART:20250330T123000Z
DTEND:20250330T133000Z
LOCATION:Schram Studio&#039;s Grasweg 52
SUMMARY:Opening EXPO in Amsterdam
DESCRIPTION:“For your eyes Only” Een bijzondere expositie in het pracht
 ige Amsterdam. Hoeve Rijlaarsdam verwelkomt u graag bij de opening van deze
  nieuwe expositie &#8216;For your eyes only&#8217;.&nbsp;Één studio wordt
  volledig ingericht met een bijzondere selectie hedendaagse kunst\,  van ab
 stract tot realistisch.&nbsp;Laat u verrassen door de bijzondere kleurencom
 binaties in een geweldige[..]\nhttps://rijlaarsdam.nl/blog/events/opening-e
 xpositie-amsterdam/
URL:https://rijlaarsdam.nl/blog/events/opening-expositie-amsterdam/
END:VEVENT
END:VCALENDAR