BEGIN:VCALENDAR
VERSION:2.0
PRODID:-//eventon.com NONSGML v1.0//EN
CALSCALE:GREGORIAN
METHOD:PUBLISH
BEGIN:VEVENT
UID:69e6011600f02
DTSTAMP:20260420T103358Z
DTSTART:20240407T110000Z
DTEND:20240407T150000Z
LOCATION:Hoeve Rijlaarsdam Nieuwveenseweg 59
SUMMARY:Opening expositie Erik Kierkels
DESCRIPTION:De opening van deze tentoonstelling is op zondag 7 april van 13
 :00-17:00 uur met de première van zijn documentaire en signering van zijn 
 nieuwe boek.&nbsp; Maar liefst 75 kunstwerken van deze veelzijdige kunstena
 ar kunt u bewonderen. Erik Kierkels maakt beelden van brons en glas en maak
 t prachtige schilderijen\,  een unieke[..]\nhttps://rijlaarsdam.nl/blog/eve
 nts/opening-expositie-erik-kierkels/
URL:https://rijlaarsdam.nl/blog/events/opening-expositie-erik-kierkels/
END:VEVENT
END:VCALENDAR