BEGIN:VCALENDAR
VERSION:2.0
PRODID:-//eventon.com NONSGML v1.0//EN
CALSCALE:GREGORIAN
METHOD:PUBLISH
BEGIN:VEVENT
UID:69e600d056ef7
DTSTAMP:20260420T103248Z
DTSTART:20241115
DTEND:20241116
LOCATION:Hoeve Rijlaarsdam Nieuwveenseweg 59
SUMMARY:Winter expositie | Jan Peter van Opheusden
DESCRIPTION:15 november 2024 &#8211; 2 maart 2025 Winterexpositie met als g
 astexposant Jan Peter van Opheusden. Jan Peter van Opheusden wordt ook wel 
 de &#8221; Meester van het Intuïtieve &#8221; genoemd. &#8221; Schilderen 
 is mijn passie en mijn werk moet warmte uitstralen\,  verder niets&#8221;&n
 bsp; &nbsp; Deze zin zegt al veel over[..]\nhttps://rijlaarsdam.nl/blog/eve
 nts/winterexpositie-jan-peter-van-opheusden/
URL:https://rijlaarsdam.nl/blog/events/winterexpositie-jan-peter-van-opheusden/
END:VEVENT
END:VCALENDAR