BEGIN:VCALENDAR
VERSION:2.0
PRODID:-//eventon.com NONSGML v1.0//EN
CALSCALE:GREGORIAN
METHOD:PUBLISH
BEGIN:VEVENT
UID:69e745e255f1c
DTSTAMP:20260421T093946Z
DTSTART:20240329T170000Z
DTEND:20240329T210000Z
LOCATION:Hoeve Rijlaarsdam Nieuwveenseweg 59
SUMMARY:VOL! | Pop-up restaurant | Diner
DESCRIPTION:Helaas is deze datum al helemaal volgeboekt.&nbsp; &nbsp; Na on
 ze eerst pop-up editie van vorig jaar (en alle leuke reacties die wij hierb
 ij hebben mogen ontvangen) kriebelde het zeker weer om een nieuwe editie te
  maken!&nbsp; 5 jaar samenwerking tussen Wouter &amp; Roos is er één om t
 e vieren. Daarom[..]\nhttps://rijlaarsdam.nl/blog/events/culinaire-beleving
 /
URL:https://rijlaarsdam.nl/blog/events/culinaire-beleving/
END:VEVENT
END:VCALENDAR