BEGIN:VCALENDAR
VERSION:2.0
PRODID:-//eventon.com NONSGML v1.0//EN
CALSCALE:GREGORIAN
METHOD:PUBLISH
BEGIN:VEVENT
UID:69e600dbeed1d
DTSTAMP:20260420T103259Z
DTSTART:20230909T080000Z
DTEND:20230909T150000Z
LOCATION:Hoeve Rijlaarsdam Nieuwveenseweg 59
SUMMARY:Workshop ‘Schilderen in de trant van…’ Met Ineke Mahieu
DESCRIPTION:Tijdens deze workshop wordt er gewerkt aan de hand van voorbeel
 dprints van impressionistische schilderijen. U krijgt veel praktische en in
 houdelijke aanwijzingen\,  onder meer over het mengen van kleuren en het sc
 hilderen met een vlotte\,  losse toets. Er zal worden geschilderd met acryl
 verf.&nbsp;(Al het materiaal wordt verzorgd.)Deze workshop wordt gegeven do
 or[..]\nhttps://rijlaarsdam.nl/blog/events/workshop-schilderen-in-de-trant-
 van-met-ineke-mahieuworkshop/
URL:https://rijlaarsdam.nl/blog/events/workshop-schilderen-in-de-trant-van-met-ineke-mahieuworkshop/
END:VEVENT
END:VCALENDAR