BEGIN:VCALENDAR
VERSION:2.0
PRODID:-//eventon.com NONSGML v1.0//EN
CALSCALE:GREGORIAN
METHOD:PUBLISH
BEGIN:VEVENT
UID:69e744731fc3c
DTSTAMP:20260421T093339Z
DTSTART:20240330T170000Z
DTEND:20240330T210000Z
LOCATION:Hoeve Rijlaarsdam Nieuwveenseweg 59
SUMMARY:VOL! | Pop-up restaurant | Diner
DESCRIPTION:Na onze eerst pop-up editie van vorig jaar (en alle leuke react
 ies die wij hierbij hebben mogen ontvangen) kriebelde het zeker weer om een
  nieuwe editie te maken!&nbsp; 5 jaar samenwerking tussen Wouter &amp; Roos
  is er één om te vieren. Daarom in deze pop-up editie een prachtig 5 gang
 en[..]\nhttps://rijlaarsdam.nl/blog/events/culinaire-belevenis/
URL:https://rijlaarsdam.nl/blog/events/culinaire-belevenis/
END:VEVENT
END:VCALENDAR