BEGIN:VCALENDAR
VERSION:2.0
PRODID:-//eventon.com NONSGML v1.0//EN
CALSCALE:GREGORIAN
METHOD:PUBLISH
BEGIN:VEVENT
UID:69e60455b171c
DTSTAMP:20260420T104749Z
DTSTART:20230819
DTEND:20230820
LOCATION:Hoeve Rijlaarsdam Nieuwveenseweg 59
SUMMARY:Masterclass schilderen met Ralf Heynen
DESCRIPTION:Heeft u altijd al de technieken willen weten achter de schilder
 ijen van Ralf Heynen? Het schilderen van water\,  de mooie lichtval en weer
 kaatsing op het water\,  de stilte en rust die zijn schilderijen uitstralen
 ? Alle deelnemers schilderen hetzelfde motief n.a.v. een foto die Ralf aanl
 evert Hij neemt u stap voor[..]\nhttps://rijlaarsdam.nl/blog/events/masterc
 lass-schilderen-met-ralf-heynen/
URL:https://rijlaarsdam.nl/blog/events/masterclass-schilderen-met-ralf-heynen/
END:VEVENT
END:VCALENDAR