BEGIN:VCALENDAR
VERSION:2.0
PRODID:-//eventon.com NONSGML v1.0//EN
CALSCALE:GREGORIAN
METHOD:PUBLISH
BEGIN:VEVENT
UID:69e747009e510
DTSTAMP:20260421T094432Z
DTSTART:20230826
DTEND:20230827
LOCATION:Hoeve Rijlaarsdam Nieuwveenseweg 59
SUMMARY:Zomerse muziekavond
DESCRIPTION:Zet 26 augustus maar in de agenda!&nbsp;Voor ons jubileum jaar 
 organiseren wij een heerlijke avond vol met goede muziek!&nbsp; Aanvang: 19
 :30 De toegang is geheel gratis.&nbsp; &nbsp;\nhttps://rijlaarsdam.nl/blog/
 events/zomerse-muziekavond/
URL:https://rijlaarsdam.nl/blog/events/zomerse-muziekavond/
END:VEVENT
END:VCALENDAR