BEGIN:VCALENDAR
VERSION:2.0
PRODID:-//eventon.com NONSGML v1.0//EN
CALSCALE:GREGORIAN
METHOD:PUBLISH
BEGIN:VEVENT
UID:69e639af4111c
DTSTAMP:20260420T143527Z
DTSTART:20230415T080000Z
DTEND:20230415T140000Z
LOCATION:Hoeve Rijlaarsdam Nieuwveenseweg 59
SUMMARY:Workshop ‘kleuren brengen vreugde’ schilderen met Marianne Naerebout
DESCRIPTION:“ Kleuren brengen vreugde “ De kunst van leven is te leren\
 ,  de dagen van voorspoed en de dagen van tegenspoed te omhelzen. Houdt u n
 et als Marianne van kleuren\,  dan mag u deze workshop beslist niet missen.
  U bent lekker de gehele dag onder de pannen en gaat met[..]\nhttps://rijla
 arsdam.nl/blog/events/workshop-kleuren-brengen-vreugde-schilderen-met-maria
 nne-naerebout/
URL:https://rijlaarsdam.nl/blog/events/workshop-kleuren-brengen-vreugde-schilderen-met-marianne-naerebout/
END:VEVENT
END:VCALENDAR