BEGIN:VCALENDAR
VERSION:2.0
PRODID:-//eventon.com NONSGML v1.0//EN
CALSCALE:GREGORIAN
METHOD:PUBLISH
BEGIN:VEVENT
UID:69e5ed9b308d2
DTSTAMP:20260420T091051Z
DTSTART:20230319T000000Z
DTEND:20230318T210000Z
LOCATION:Hoeve Rijlaarsdam Nieuwveenseweg 59
SUMMARY:VOL | Workshop pastel tekenen met Loes Botman
DESCRIPTION:Deze workshop zit helaas al vol! Scroll naar beneden en wellich
 t vindt u nog een hele leuke andere workshop! Op 18 maart hebben wij een wo
 rkshop Pasteltekenen van Loes Botman. Op de zolder van de hooiberg kunt u z
 ich volledig laten onderdompelen in de wereld van&nbsp;Pastel.&nbsp;Laat u 
 zich verrassen en[..]\nhttps://rijlaarsdam.nl/blog/events/workshop-pastel-t
 ekenen-met-loes-botman/
URL:https://rijlaarsdam.nl/blog/events/workshop-pastel-tekenen-met-loes-botman/
END:VEVENT
END:VCALENDAR